BEGIN:VCALENDAR
VERSION:2.0
PRODID:-//Sabre//Sabre VObject 4.5.8//EN
CALSCALE:GREGORIAN
BEGIN:VEVENT
UID:sabre-vobject-d384a11c-9cc1-4d00-b0b0-e80c3ddf2a0c
DTSTAMP:20260420T083143Z
SUMMARY:Salzburg
DESCRIPTION:https://keb-augsburg.de/keb-bad-woerishofen-und-memmingen/keb-f
 orum-bad-woerishofen-memmingen/veranstaltungen/salzburg_id140460
DTSTART;TZID=Europe/Berlin:20220923T000000
DTEND;TZID=Europe/Berlin:20220926T000000
LOCATION:vor Ort
END:VEVENT
END:VCALENDAR
