BEGIN:VCALENDAR
VERSION:2.0
PRODID:-//Sabre//Sabre VObject 4.5.8//EN
CALSCALE:GREGORIAN
BEGIN:VEVENT
UID:sabre-vobject-90eacd54-8ee6-4e96-9d19-a244e7d1e97f
DTSTAMP:20260420T082054Z
SUMMARY:Auf Pfarrer Kneipp´s Spuren - Stadtführung
DESCRIPTION:https://keb-augsburg.de/keb-bad-woerishofen-und-memmingen/keb-f
 orum-bad-woerishofen-memmingen/veranstaltungen/auf-pfarrer-kneipp-s-spuren
 -stadtfuehrung_id250127
DTSTART;TZID=Europe/Berlin:20250317T140000
LOCATION:Treffpunkt Steinbrunnen am Kurhaus\, Hauptstraße 16\, 86825 Bad W
 örishofen
END:VEVENT
END:VCALENDAR
