BEGIN:VCALENDAR
VERSION:2.0
PRODID:-//Sabre//Sabre VObject 4.5.8//EN
CALSCALE:GREGORIAN
BEGIN:VEVENT
UID:sabre-vobject-9fffd4b8-b1f1-44d4-9d82-976e77ca8a38
DTSTAMP:20260420T083649Z
SUMMARY:Einführung in Tanz - einfach zum Mitmachen
DESCRIPTION:https://keb-augsburg.de/keb-bad-woerishofen-und-memmingen/keb-f
 orum-bad-woerishofen-memmingen/veranstaltungen/einfuehrung-in-tanz-einfach
 -zum-mitmachen_id257687
DTSTART;TZID=Europe/Berlin:20250313T150000
DTEND;TZID=Europe/Berlin:20250313T170000
LOCATION:Pfarrsaal St. Justina\, Schulstraße 10\, 86825 Bad Wörishofen
END:VEVENT
END:VCALENDAR
