BEGIN:VCALENDAR
VERSION:2.0
PRODID:-//Sabre//Sabre VObject 4.5.8//EN
CALSCALE:GREGORIAN
BEGIN:VEVENT
UID:sabre-vobject-5327a391-456b-48e5-b29e-a0e2ae52e2d9
DTSTAMP:20260419T213019Z
SUMMARY:Kneipp erleben - Waldbaden genießen
DESCRIPTION:https://bw-forum.de/keb-forum-bad-woerishofen/veranstaltungen/k
 neipp-erleben-waldbaden-geniessen_id326870
DTSTART;TZID=Europe/Berlin:20260516T140000
LOCATION:Treffpunkt Parkplatz und Haltestelle Versunkenes Schloss - Schöne
 schacher Strasse\, Am Versunkenen Schloß 1\, 86825 Bad Wörishofen
END:VEVENT
END:VCALENDAR
